BEGIN:VCALENDAR
VERSION:2.0
PRODID:-//Stand in the Gap Ministries - ECPv6.15.15//NONSGML v1.0//EN
CALSCALE:GREGORIAN
METHOD:PUBLISH
X-ORIGINAL-URL:https://www.standinthegap.org
X-WR-CALDESC:Events for Stand in the Gap Ministries
REFRESH-INTERVAL;VALUE=DURATION:PT1H
X-Robots-Tag:noindex
X-PUBLISHED-TTL:PT1H
BEGIN:VTIMEZONE
TZID:America/Chicago
BEGIN:DAYLIGHT
TZOFFSETFROM:-0600
TZOFFSETTO:-0500
TZNAME:CDT
DTSTART:20240310T080000
END:DAYLIGHT
BEGIN:STANDARD
TZOFFSETFROM:-0500
TZOFFSETTO:-0600
TZNAME:CST
DTSTART:20241103T070000
END:STANDARD
BEGIN:DAYLIGHT
TZOFFSETFROM:-0600
TZOFFSETTO:-0500
TZNAME:CDT
DTSTART:20250309T080000
END:DAYLIGHT
BEGIN:STANDARD
TZOFFSETFROM:-0500
TZOFFSETTO:-0600
TZNAME:CST
DTSTART:20251102T070000
END:STANDARD
BEGIN:DAYLIGHT
TZOFFSETFROM:-0600
TZOFFSETTO:-0500
TZNAME:CDT
DTSTART:20260308T080000
END:DAYLIGHT
BEGIN:STANDARD
TZOFFSETFROM:-0500
TZOFFSETTO:-0600
TZNAME:CST
DTSTART:20261101T070000
END:STANDARD
END:VTIMEZONE
BEGIN:VEVENT
DTSTART;TZID=America/Chicago:20250501T183000
DTEND;TZID=America/Chicago:20250501T203000
DTSTAMP:20260421T041055
CREATED:20250213T214215Z
LAST-MODIFIED:20250213T214215Z
UID:25631-1746124200-1746131400@www.standinthegap.org
SUMMARY:All Widows Leaders Quarterly Zoom
DESCRIPTION:
URL:https://www.standinthegap.org/event/all-widows-leaders-quarterly-zoom/
LOCATION:Oklahoma
END:VEVENT
BEGIN:VEVENT
DTSTART;TZID=America/Chicago:20250530T090000
DTEND;TZID=America/Chicago:20250530T170000
DTSTAMP:20260421T041055
CREATED:20250314T152205Z
LAST-MODIFIED:20250506T182157Z
UID:25740-1748595600-1748624400@www.standinthegap.org
SUMMARY:ArcLight Sporting Clays Invitational
DESCRIPTION:We’re excited to invite you to the 2nd Annual Sporting Clays Invitational on May 2nd\, 2025\, at the Tulsa Gun Club!  Huge thanks to ArcLight Group for their generosity in hosting this event. We are so thankful for all you are putting into this event to benefit what God is doing at Stand in the Gap.\n\nLast year’s inaugural event raised over $4\,500 for Stand in the Gap Ministries\, and we’re incredibly thankful and hopeful for what this year will bring. All proceeds will directly benefit our work supporting widows\, orphans\, and prisoners.\nYou can register now through the links provided\, or learn about sponsorship opportunities to help us make an even greater difference!opportunities to help us make an even greater difference!\n\nRegistration: https://shorturl.at/SEi2F\nSponsorship Opportunities: https://shorturl.at/4BYBz
URL:https://www.standinthegap.org/event/arclight-sporting-clays-invitational/
LOCATION:Tulsa Gun Club\, 8888 Mohawk Blvd\, Tulsa\, OK\, 74117\, United States
END:VEVENT
END:VCALENDAR